BEGIN:VCALENDAR
CALSCALE:GREGORIAN
PRODID:-//Ben Fortuna//iCal4j 1.0//EN
VERSION:2.0
BEGIN:VEVENT
DTSTAMP:20260126T210017Z
DTSTART:20260130T153000
DTEND:20260130T173000
SUMMARY:Adjourn - Room 9
TZID:America/New_York
UID:20260126T210043Z-uidGen@richgoldman-357e73
END:VEVENT
BEGIN:VALARM
TRIGGER:-PT15M
ACTION:DISPLAY
DESCRIPTION:Adjourn - Room 9
END:VALARM
END:VCALENDAR
