BEGIN:VCALENDAR
CALSCALE:GREGORIAN
PRODID:-//Ben Fortuna//iCal4j 1.0//EN
VERSION:2.0
BEGIN:VEVENT
DTSTAMP:20260126T210017Z
DTSTART:20260130T150000
DTEND:20260130T170000
SUMMARY:FY27 Budget\n\nLieutenant Governor's Office\n\nJohn Rodgers\, Lie
 utenant Governor\, State of Vermont\n\nHolly Ferrant\, Chief Financial O
 ffice\, Financial Services Division\, Agency of Administration - Room 9
TZID:America/New_York
UID:20260126T210041Z-uidGen@richgoldman-357e73
END:VEVENT
BEGIN:VALARM
TRIGGER:-PT15M
ACTION:DISPLAY
DESCRIPTION:FY27 Budget\n\nLieutenant Governor's Office\n\nJohn Rodgers\,
  Lieutenant Governor\, State of Vermont\n\nHolly Ferrant\, Chief Financi
 al Office\, Financial Services Division\, Agency of Administration - Roo
 m 9
END:VALARM
END:VCALENDAR
