BEGIN:VCALENDAR
CALSCALE:GREGORIAN
PRODID:-//Ben Fortuna//iCal4j 1.0//EN
VERSION:2.0
BEGIN:VEVENT
DTSTAMP:20260127T200015Z
DTSTART:20260130T143000
DTEND:20260130T163000
SUMMARY:FY27 Budget\n\nOffice of the State Treasurer\n\nMichael Pieciak\,
  Vermont State Treasurer\, Office of the State Treasurer - Room 5
TZID:America/New_York
UID:20260127T200130Z-uidGen@richgoldman-357e73
END:VEVENT
BEGIN:VALARM
TRIGGER:-PT15M
ACTION:DISPLAY
DESCRIPTION:FY27 Budget\n\nOffice of the State Treasurer\n\nMichael Pieci
 ak\, Vermont State Treasurer\, Office of the State Treasurer - Room 5
END:VALARM
END:VCALENDAR
