BEGIN:VCALENDAR
CALSCALE:GREGORIAN
PRODID:-//Ben Fortuna//iCal4j 1.0//EN
VERSION:2.0
BEGIN:VEVENT
DTSTAMP:20260126T230013Z
DTSTART:20260130T140000
DTEND:20260130T160000
SUMMARY:FY27 Budget\n\nVermont Veterans Home\n\nMelissa Jackson\, Chief E
 xecutive Officer\, Vermont Veterans' Home\n\nSteve McClafferty\, Finance
  Director\, Vermont Veterans' Home\n\nGary DeGasta\, President of the Bo
 ard of Trustees\, Vermont Veterans' Home - Room 5
TZID:America/New_York
UID:20260126T230035Z-uidGen@richgoldman-357e73
END:VEVENT
BEGIN:VALARM
TRIGGER:-PT15M
ACTION:DISPLAY
DESCRIPTION:FY27 Budget\n\nVermont Veterans Home\n\nMelissa Jackson\, Chi
 ef Executive Officer\, Vermont Veterans' Home\n\nSteve McClafferty\, Fin
 ance Director\, Vermont Veterans' Home\n\nGary DeGasta\, President of th
 e Board of Trustees\, Vermont Veterans' Home - Room 5
END:VALARM
END:VCALENDAR
