BEGIN:VCALENDAR
CALSCALE:GREGORIAN
PRODID:-//Ben Fortuna//iCal4j 1.0//EN
VERSION:2.0
BEGIN:VEVENT
DTSTAMP:20260127T160015Z
DTSTART:20260130T141500
DTEND:20260130T161500
SUMMARY:VHFA Program Update\n\nMaura Collins\, Executive Director\, Vermo
 nt Housing Finance Agency - Room 6
TZID:America/New_York
UID:20260127T160117Z-uidGen@richgoldman-357e73
END:VEVENT
BEGIN:VALARM
TRIGGER:-PT15M
ACTION:DISPLAY
DESCRIPTION:VHFA Program Update\n\nMaura Collins\, Executive Director\, V
 ermont Housing Finance Agency - Room 6
END:VALARM
END:VCALENDAR
