BEGIN:VCALENDAR
CALSCALE:GREGORIAN
PRODID:-//Ben Fortuna//iCal4j 1.0//EN
VERSION:2.0
BEGIN:VEVENT
DTSTAMP:20260126T220014Z
DTSTART:20260130T141500
DTEND:20260130T161500
SUMMARY:S. 232 - An act relating to public libraries and the Department o
 f Libraries\n\nTucker Anderson\, Legislative Counsel\, Office of Legisla
 tive Counsel - Invited\n\nCatherine Delneo\, Commissioner and State Libr
 arian\, Vermont Department of Libraries - Invited - Room 28
TZID:America/New_York
UID:20260126T220024Z-uidGen@richgoldman-357e73
END:VEVENT
BEGIN:VALARM
TRIGGER:-PT15M
ACTION:DISPLAY
DESCRIPTION:S. 232 - An act relating to public libraries and the Departme
 nt of Libraries\n\nTucker Anderson\, Legislative Counsel\, Office of Leg
 islative Counsel - Invited\n\nCatherine Delneo\, Commissioner and State 
 Librarian\, Vermont Department of Libraries - Invited - Room 28
END:VALARM
END:VCALENDAR
