BEGIN:VCALENDAR
CALSCALE:GREGORIAN
PRODID:-//Ben Fortuna//iCal4j 1.0//EN
VERSION:2.0
BEGIN:VEVENT
DTSTAMP:20260125T060514Z
DTSTART:20260130T140000
DTEND:20260130T160000
SUMMARY:TBD\n\nPlease note that witnesses may not be called in the order 
 in which they are listed. - Room M106
TZID:America/New_York
UID:20260125T062220Z-uidGen@richgoldman-357e73
END:VEVENT
BEGIN:VALARM
TRIGGER:-PT15M
ACTION:DISPLAY
DESCRIPTION:TBD\n\nPlease note that witnesses may not be called in the or
 der in which they are listed. - Room M106
END:VALARM
END:VCALENDAR
