BEGIN:VCALENDAR
CALSCALE:GREGORIAN
PRODID:-//Ben Fortuna//iCal4j 1.0//EN
VERSION:2.0
BEGIN:VEVENT
DTSTAMP:20260128T190014Z
DTSTART:20260130T140000
DTEND:20260130T160000
SUMMARY:H. 588 - An act relating to professions and occupations regulated
  by the Office of Professional Regulation\n\nProposed amendment\n\nSierr
 a Downs\, President\, Vermont Speech-Language Hearing Association - Room
  M106
TZID:America/New_York
UID:20260128T190043Z-uidGen@richgoldman-357e73
END:VEVENT
BEGIN:VALARM
TRIGGER:-PT15M
ACTION:DISPLAY
DESCRIPTION:H. 588 - An act relating to professions and occupations regul
 ated by the Office of Professional Regulation\n\nProposed amendment\n\nS
 ierra Downs\, President\, Vermont Speech-Language Hearing Association - 
 Room M106
END:VALARM
END:VCALENDAR
