BEGIN:VCALENDAR
CALSCALE:GREGORIAN
PRODID:-//Ben Fortuna//iCal4j 1.0//EN
VERSION:2.0
BEGIN:VEVENT
DTSTAMP:20260125T060514Z
DTSTART:20260130T140000
DTEND:20260130T160000
SUMMARY:S. 295 - An act relating to Group membership in the State Employe
 es’ Retirement System\n\nWalk-through\n\nSen. Tanya Vyhovsky\, Sponsor\,
  Senate Committee on Government Operations\n\nCameron Wood\, Legislative
  Counsel\, Office of Legislative Counsel - Room 4
TZID:America/New_York
UID:20260125T062225Z-uidGen@richgoldman-357e73
END:VEVENT
BEGIN:VALARM
TRIGGER:-PT15M
ACTION:DISPLAY
DESCRIPTION:S. 295 - An act relating to Group membership in the State Emp
 loyees’ Retirement System\n\nWalk-through\n\nSen. Tanya Vyhovsky\, Spons
 or\, Senate Committee on Government Operations\n\nCameron Wood\, Legisla
 tive Counsel\, Office of Legislative Counsel - Room 4
END:VALARM
END:VCALENDAR
