BEGIN:VCALENDAR
CALSCALE:GREGORIAN
PRODID:-//Ben Fortuna//iCal4j 1.0//EN
VERSION:2.0
BEGIN:VEVENT
DTSTAMP:20260125T060514Z
DTSTART:20260130T140000
DTEND:20260130T160000
SUMMARY:Governor Appointments\n\nKaj Samsom\, Commissioner\, Department o
 f Financial Regulation - Room 6
TZID:America/New_York
UID:20260125T062223Z-uidGen@richgoldman-357e73
END:VEVENT
BEGIN:VALARM
TRIGGER:-PT15M
ACTION:DISPLAY
DESCRIPTION:Governor Appointments\n\nKaj Samsom\, Commissioner\, Departme
 nt of Financial Regulation - Room 6
END:VALARM
END:VCALENDAR
