BEGIN:VCALENDAR
CALSCALE:GREGORIAN
PRODID:-//Ben Fortuna//iCal4j 1.0//EN
VERSION:2.0
BEGIN:VEVENT
DTSTAMP:20260125T060514Z
DTSTART:20260130T140000
DTEND:20260130T160000
SUMMARY:FY27 Budget\n\nDepartment of Corrections\n\nJon Murad\, Interim C
 ommissioner\, Department of Corrections\n\nKristin Calver\, Deputy Commi
 ssioner\, Department of Corrections\n\nMarlene Betit\, Executive Directo
 r of Finance\, Department of Corrections - Room 9
TZID:America/New_York
UID:20260125T062219Z-uidGen@richgoldman-357e73
END:VEVENT
BEGIN:VALARM
TRIGGER:-PT15M
ACTION:DISPLAY
DESCRIPTION:FY27 Budget\n\nDepartment of Corrections\n\nJon Murad\, Inter
 im Commissioner\, Department of Corrections\n\nKristin Calver\, Deputy C
 ommissioner\, Department of Corrections\n\nMarlene Betit\, Executive Dir
 ector of Finance\, Department of Corrections - Room 9
END:VALARM
END:VCALENDAR
