BEGIN:VCALENDAR
CALSCALE:GREGORIAN
PRODID:-//Ben Fortuna//iCal4j 1.0//EN
VERSION:2.0
BEGIN:VEVENT
DTSTAMP:20260126T230013Z
DTSTART:20260130T133000
DTEND:20260130T153000
SUMMARY:FY27 Budget\n\nAuditor\n\nDoug Hoffer\, State Auditor\, State Aud
 itor's Office\n\nTim Ashe\, Deputy State Auditor\, State Auditor's Offic
 e - Room 5
TZID:America/New_York
UID:20260126T230034Z-uidGen@richgoldman-357e73
END:VEVENT
BEGIN:VALARM
TRIGGER:-PT15M
ACTION:DISPLAY
DESCRIPTION:FY27 Budget\n\nAuditor\n\nDoug Hoffer\, State Auditor\, State
  Auditor's Office\n\nTim Ashe\, Deputy State Auditor\, State Auditor's O
 ffice - Room 5
END:VALARM
END:VCALENDAR
