BEGIN:VCALENDAR
CALSCALE:GREGORIAN
PRODID:-//Ben Fortuna//iCal4j 1.0//EN
VERSION:2.0
BEGIN:VEVENT
DTSTAMP:20260127T170014Z
DTSTART:20260130T133000
DTEND:20260130T153000
SUMMARY:S. 312 - An act relating to a refundable machinery and equipment 
 investment tax credit\n\nIntroduction and walk-through\n\nSen. Scott Bec
 k\, Sponsor\n\nKirby Keeton\, Legislative Counsel\, Office of Legislativ
 e Counsel - Room 6
TZID:America/New_York
UID:20260127T170128Z-uidGen@richgoldman-357e73
END:VEVENT
BEGIN:VALARM
TRIGGER:-PT15M
ACTION:DISPLAY
DESCRIPTION:S. 312 - An act relating to a refundable machinery and equipm
 ent investment tax credit\n\nIntroduction and walk-through\n\nSen. Scott
  Beck\, Sponsor\n\nKirby Keeton\, Legislative Counsel\, Office of Legisl
 ative Counsel - Room 6
END:VALARM
END:VCALENDAR
