BEGIN:VCALENDAR
CALSCALE:GREGORIAN
PRODID:-//Ben Fortuna//iCal4j 1.0//EN
VERSION:2.0
BEGIN:VEVENT
DTSTAMP:20260125T060514Z
DTSTART:20260130T131500
DTEND:20260130T151500
SUMMARY:S. 214 - An act relating to the provision of prekindergarten educ
 ation in geographically isolated school districts\n\nIntroduction\, walk
 -through\, and discussion\n\nSen. Kesha Ram Hinsdale\, Sponsor\n\nBeth S
 t. James\, Legislative Counsel\, Office of Legislative Counsel\n\nSharon
  Ellingwood\, School Board Member\, NEK Choice School District - Invited
 \n\nWitness TBA\, Let's Grow Kids Action Network - Invited - Room 28
TZID:America/New_York
UID:20260125T062212Z-uidGen@richgoldman-357e73
END:VEVENT
BEGIN:VALARM
TRIGGER:-PT15M
ACTION:DISPLAY
DESCRIPTION:S. 214 - An act relating to the provision of prekindergarten 
 education in geographically isolated school districts\n\nIntroduction\, 
 walk-through\, and discussion\n\nSen. Kesha Ram Hinsdale\, Sponsor\n\nBe
 th St. James\, Legislative Counsel\, Office of Legislative Counsel\n\nSh
 aron Ellingwood\, School Board Member\, NEK Choice School District - Inv
 ited\n\nWitness TBA\, Let's Grow Kids Action Network - Invited - Room 28
 
END:VALARM
END:VCALENDAR
