BEGIN:VCALENDAR
CALSCALE:GREGORIAN
PRODID:-//Ben Fortuna//iCal4j 1.0//EN
VERSION:2.0
BEGIN:VEVENT
DTSTAMP:20260128T190014Z
DTSTART:20260130T130000
DTEND:20260130T150000
SUMMARY:H. 589 - An act relating to a six-year statute of repose for acti
 ons arising out of improvements to real property\n\nWitness Testimony\n\
 nRob Higgins\n\nAdam Osha\n\nAlan Parent\, Senior Director of Business D
 evelopment\, PC Construction\n\nChris Huston\, VP of Preconstruction\, R
 eArch Construction\n\nKristin Ross\, President\, Vermont Association for
  Justice\n\nRichard Rubin\, Leader\, Vermont Association for Justice - R
 oom 30
TZID:America/New_York
UID:20260128T190040Z-uidGen@richgoldman-357e73
END:VEVENT
BEGIN:VALARM
TRIGGER:-PT15M
ACTION:DISPLAY
DESCRIPTION:H. 589 - An act relating to a six-year statute of repose for 
 actions arising out of improvements to real property\n\nWitness Testimon
 y\n\nRob Higgins\n\nAdam Osha\n\nAlan Parent\, Senior Director of Busine
 ss Development\, PC Construction\n\nChris Huston\, VP of Preconstruction
 \, ReArch Construction\n\nKristin Ross\, President\, Vermont Association
  for Justice\n\nRichard Rubin\, Leader\, Vermont Association for Justice
  - Room 30
END:VALARM
END:VCALENDAR
