BEGIN:VCALENDAR
CALSCALE:GREGORIAN
PRODID:-//Ben Fortuna//iCal4j 1.0//EN
VERSION:2.0
BEGIN:VEVENT
DTSTAMP:20260125T060514Z
DTSTART:20260130T130000
DTEND:20260130T150000
SUMMARY:Animal Welfare Bill\n\nIntroduction and walk-through\n\nRep. Chea
  Waters Evans\, Sponsor\, Chittenden-5\n\nErik FitzPatrick\, Legislative
  Counsel\, Office of Legislative Counsel - Room M106
TZID:America/New_York
UID:20260125T062201Z-uidGen@richgoldman-357e73
END:VEVENT
BEGIN:VALARM
TRIGGER:-PT15M
ACTION:DISPLAY
DESCRIPTION:Animal Welfare Bill\n\nIntroduction and walk-through\n\nRep. 
 Chea Waters Evans\, Sponsor\, Chittenden-5\n\nErik FitzPatrick\, Legisla
 tive Counsel\, Office of Legislative Counsel - Room M106
END:VALARM
END:VCALENDAR
