BEGIN:VCALENDAR
CALSCALE:GREGORIAN
PRODID:-//Ben Fortuna//iCal4j 1.0//EN
VERSION:2.0
BEGIN:VEVENT
DTSTAMP:20260125T060514Z
DTSTART:20260130T130000
DTEND:20260130T150000
SUMMARY:Committee Meeting\n\nRequest to allow Retirement Group C Law-Enfo
 rcement Officers to remain in Group C after becoming Police Recruit Trai
 ners at the Vermont Police Academy\n\nSteve Howard\, Executive Director\
 , Vermont State Employees Association - Invited - Room 4
TZID:America/New_York
UID:20260125T062209Z-uidGen@richgoldman-357e73
END:VEVENT
BEGIN:VALARM
TRIGGER:-PT15M
ACTION:DISPLAY
DESCRIPTION:Committee Meeting\n\nRequest to allow Retirement Group C Law-
 Enforcement Officers to remain in Group C after becoming Police Recruit 
 Trainers at the Vermont Police Academy\n\nSteve Howard\, Executive Direc
 tor\, Vermont State Employees Association - Invited - Room 4
END:VALARM
END:VCALENDAR
