BEGIN:VCALENDAR
CALSCALE:GREGORIAN
PRODID:-//Ben Fortuna//iCal4j 1.0//EN
VERSION:2.0
BEGIN:VEVENT
DTSTAMP:20260126T160014Z
DTSTART:20260130T130000
DTEND:20260130T150000
SUMMARY:FY27 Budget\n\nDepartment of Human Resources\n\nBeth Fastiggi\, C
 ommissioner\, Department of Human Resources\n\nHarmony Wilder\, Financia
 l Director II\, Financial Services Division\, Agency of Administration\n
 \nHolly Ferrant\, Chief Financial Office\, Financial Services Division\,
  Agency of Administration - Room 9
TZID:America/New_York
UID:20260126T160043Z-uidGen@richgoldman-357e73
END:VEVENT
BEGIN:VALARM
TRIGGER:-PT15M
ACTION:DISPLAY
DESCRIPTION:FY27 Budget\n\nDepartment of Human Resources\n\nBeth Fastiggi
 \, Commissioner\, Department of Human Resources\n\nHarmony Wilder\, Fina
 ncial Director II\, Financial Services Division\, Agency of Administrati
 on\n\nHolly Ferrant\, Chief Financial Office\, Financial Services Divisi
 on\, Agency of Administration - Room 9
END:VALARM
END:VCALENDAR
