BEGIN:VCALENDAR
CALSCALE:GREGORIAN
PRODID:-//Ben Fortuna//iCal4j 1.0//EN
VERSION:2.0
BEGIN:VEVENT
DTSTAMP:20260125T060514Z
DTSTART:20260130T110000
DTEND:20260130T130000
SUMMARY:FY27 Budget\n\nVermont Department of Health\n\nDr. Rick Hildebran
 t\, MD\, Commissioner\, Department of Health\n\nMegan Hoke\, Financial D
 irector\, Department of Health - Room 9
TZID:America/New_York
UID:20260125T062041Z-uidGen@richgoldman-357e73
END:VEVENT
BEGIN:VALARM
TRIGGER:-PT15M
ACTION:DISPLAY
DESCRIPTION:FY27 Budget\n\nVermont Department of Health\n\nDr. Rick Hilde
 brant\, MD\, Commissioner\, Department of Health\n\nMegan Hoke\, Financi
 al Director\, Department of Health - Room 9
END:VALARM
END:VCALENDAR
