BEGIN:VCALENDAR
CALSCALE:GREGORIAN
PRODID:-//Ben Fortuna//iCal4j 1.0//EN
VERSION:2.0
BEGIN:VEVENT
DTSTAMP:20260127T200015Z
DTSTART:20260130T103000
DTEND:20260130T123000
SUMMARY:H. 723 - An act relating to posting of land\n\nH. 723\, H. 608\, 
 and Licenses\n\nJason Batchelder\, Commissioner\, Department of Fish and
  Wildlife - Invited - Room EA
TZID:America/New_York
UID:20260127T200128Z-uidGen@richgoldman-357e73
END:VEVENT
BEGIN:VALARM
TRIGGER:-PT15M
ACTION:DISPLAY
DESCRIPTION:H. 723 - An act relating to posting of land\n\nH. 723\, H. 60
 8\, and Licenses\n\nJason Batchelder\, Commissioner\, Department of Fish
  and Wildlife - Invited - Room EA
END:VALARM
END:VCALENDAR
