BEGIN:VCALENDAR
CALSCALE:GREGORIAN
PRODID:-//Ben Fortuna//iCal4j 1.0//EN
VERSION:2.0
BEGIN:VEVENT
DTSTAMP:20260125T060514Z
DTSTART:20260130T103000
DTEND:20260130T123000
SUMMARY:S. 208 - An act relating to standards for law enforcement identif
 ication\n\nDiscussion and Possible Vote\n\nSophie Zdatny\, Legislative C
 ounsel\, Office of Legislative Counsel - Room 1
TZID:America/New_York
UID:20260125T062039Z-uidGen@richgoldman-357e73
END:VEVENT
BEGIN:VALARM
TRIGGER:-PT15M
ACTION:DISPLAY
DESCRIPTION:S. 208 - An act relating to standards for law enforcement ide
 ntification\n\nDiscussion and Possible Vote\n\nSophie Zdatny\, Legislati
 ve Counsel\, Office of Legislative Counsel - Room 1
END:VALARM
END:VCALENDAR
