BEGIN:VCALENDAR
CALSCALE:GREGORIAN
PRODID:-//Ben Fortuna//iCal4j 1.0//EN
VERSION:2.0
BEGIN:VEVENT
DTSTAMP:20260127T230013Z
DTSTART:20260130T103000
DTEND:20260130T123000
SUMMARY:Dam Memorandum\n\nBen Green\, Dam Safety Program Manager\, Depart
 ment of Environmental Conservation - Invited - Room 8
TZID:America/New_York
UID:20260127T230118Z-uidGen@richgoldman-357e73
END:VEVENT
BEGIN:VALARM
TRIGGER:-PT15M
ACTION:DISPLAY
DESCRIPTION:Dam Memorandum\n\nBen Green\, Dam Safety Program Manager\, De
 partment of Environmental Conservation - Invited - Room 8
END:VALARM
END:VCALENDAR
