BEGIN:VCALENDAR
CALSCALE:GREGORIAN
PRODID:-//Ben Fortuna//iCal4j 1.0//EN
VERSION:2.0
BEGIN:VEVENT
DTSTAMP:20260127T230013Z
DTSTART:20260130T101500
DTEND:20260130T121500
SUMMARY:S. 238 - An act relating to revenue for education and housing dev
 elopment\n\nIntroduction and Walk-Through\n\nSen. Alison Clarkson\, Spon
 sor\, -\n\nKirby Keeton\, Legislative Counsel\, Office of Legislative Co
 unsel\n\nTed Barnett\, Fiscal Analyst\, Joint Fiscal Office\n\nChris Don
 nelly\, Director of Community Relations\, Champlain Housing Trust - Room
  27
TZID:America/New_York
UID:20260127T230115Z-uidGen@richgoldman-357e73
END:VEVENT
BEGIN:VALARM
TRIGGER:-PT15M
ACTION:DISPLAY
DESCRIPTION:S. 238 - An act relating to revenue for education and housing
  development\n\nIntroduction and Walk-Through\n\nSen. Alison Clarkson\, 
 Sponsor\, -\n\nKirby Keeton\, Legislative Counsel\, Office of Legislativ
 e Counsel\n\nTed Barnett\, Fiscal Analyst\, Joint Fiscal Office\n\nChris
  Donnelly\, Director of Community Relations\, Champlain Housing Trust - 
 Room 27
END:VALARM
END:VCALENDAR
