BEGIN:VCALENDAR
CALSCALE:GREGORIAN
PRODID:-//Ben Fortuna//iCal4j 1.0//EN
VERSION:2.0
BEGIN:VEVENT
DTSTAMP:20260125T060514Z
DTSTART:20260130T100000
DTEND:20260130T120000
SUMMARY:S. 170 - An act relating to net metering rates\n\nAndrea Cohen\, 
 Manager\, Government Affairs and Member Relations\, Vermont Electric Coo
 perative\, Inc.\n\nCandace Morgan\, Director\, Regulatory and Government
  Affairs\, Green Mountain Power - Room 8
TZID:America/New_York
UID:20260125T062025Z-uidGen@richgoldman-357e73
END:VEVENT
BEGIN:VALARM
TRIGGER:-PT15M
ACTION:DISPLAY
DESCRIPTION:S. 170 - An act relating to net metering rates\n\nAndrea Cohe
 n\, Manager\, Government Affairs and Member Relations\, Vermont Electric
  Cooperative\, Inc.\n\nCandace Morgan\, Director\, Regulatory and Govern
 ment Affairs\, Green Mountain Power - Room 8
END:VALARM
END:VCALENDAR
