BEGIN:VCALENDAR
CALSCALE:GREGORIAN
PRODID:-//Ben Fortuna//iCal4j 1.0//EN
VERSION:2.0
BEGIN:VEVENT
DTSTAMP:20260126T180014Z
DTSTART:20260130T100000
DTEND:20260130T120000
SUMMARY:S. 299 - An act relating to posting of land\n\nMichael O'Grady\, 
 Deputy Chief Counsel\, Office of Legislative Counsel\n\nSen. Christopher
  Mattos\, Senator\, Sponsor - Room 8
TZID:America/New_York
UID:20260126T180045Z-uidGen@richgoldman-357e73
END:VEVENT
BEGIN:VALARM
TRIGGER:-PT15M
ACTION:DISPLAY
DESCRIPTION:S. 299 - An act relating to posting of land\n\nMichael O'Grad
 y\, Deputy Chief Counsel\, Office of Legislative Counsel\n\nSen. Christo
 pher Mattos\, Senator\, Sponsor - Room 8
END:VALARM
END:VCALENDAR
