BEGIN:VCALENDAR
CALSCALE:GREGORIAN
PRODID:-//Ben Fortuna//iCal4j 1.0//EN
VERSION:2.0
BEGIN:VEVENT
DTSTAMP:20260127T150031Z
DTSTART:20260130T100000
DTEND:20260130T120000
SUMMARY:S. 299 - An act relating to posting of land\n\nSen. Christopher M
 attos\, Senator\, Sponsor\n\nBradley Showman\, Legislative Counsel\, Off
 ice of Legislative Counsel - Room 8
TZID:America/New_York
UID:20260127T150142Z-uidGen@richgoldman-357e73
END:VEVENT
BEGIN:VALARM
TRIGGER:-PT15M
ACTION:DISPLAY
DESCRIPTION:S. 299 - An act relating to posting of land\n\nSen. Christoph
 er Mattos\, Senator\, Sponsor\n\nBradley Showman\, Legislative Counsel\,
  Office of Legislative Counsel - Room 8
END:VALARM
END:VCALENDAR
