BEGIN:VCALENDAR
CALSCALE:GREGORIAN
PRODID:-//Ben Fortuna//iCal4j 1.0//EN
VERSION:2.0
BEGIN:VEVENT
DTSTAMP:20260126T150030Z
DTSTART:20260130T093100
DTEND:20260130T113100
SUMMARY:H. 640 - An act relating to adding voting student members to scho
 ol district boards\n\nIntroduction and walk-through\n\nAdditional witnes
 ses TBA\n\nRep. Leanne Harple\, Representative\, Sponsor - Room M103
TZID:America/New_York
UID:20260126T150058Z-uidGen@richgoldman-357e73
END:VEVENT
BEGIN:VALARM
TRIGGER:-PT15M
ACTION:DISPLAY
DESCRIPTION:H. 640 - An act relating to adding voting student members to 
 school district boards\n\nIntroduction and walk-through\n\nAdditional wi
 tnesses TBA\n\nRep. Leanne Harple\, Representative\, Sponsor - Room M103
 
END:VALARM
END:VCALENDAR
