BEGIN:VCALENDAR
CALSCALE:GREGORIAN
PRODID:-//Ben Fortuna//iCal4j 1.0//EN
VERSION:2.0
BEGIN:VEVENT
DTSTAMP:20260125T060514Z
DTSTART:20260130T093100
DTEND:20260130T113100
SUMMARY:H. 626 - An act relating to voyeurism and disclosure of sexually 
 explicit images without consent\n\nDiscussion and Possible Vote - Room 3
 0
TZID:America/New_York
UID:20260125T062013Z-uidGen@richgoldman-357e73
END:VEVENT
BEGIN:VALARM
TRIGGER:-PT15M
ACTION:DISPLAY
DESCRIPTION:H. 626 - An act relating to voyeurism and disclosure of sexua
 lly explicit images without consent\n\nDiscussion and Possible Vote - Ro
 om 30
END:VALARM
END:VCALENDAR
