BEGIN:VCALENDAR
CALSCALE:GREGORIAN
PRODID:-//Ben Fortuna//iCal4j 1.0//EN
VERSION:2.0
BEGIN:VEVENT
DTSTAMP:20260128T170014Z
DTSTART:20260130T093100
DTEND:20260130T113100
SUMMARY:Human Rights Commission\n\nReview of Report: "Holding the Line Af
 ter 2025: Policy Recommendations from the HRC 2025 Civil Rights Summit"\
 n\nBig Hartman\, Executive Director & General Counsel\, Vermont Human Ri
 ghts Commission - Room 30
TZID:America/New_York
UID:20260128T170054Z-uidGen@richgoldman-357e73
END:VEVENT
BEGIN:VALARM
TRIGGER:-PT15M
ACTION:DISPLAY
DESCRIPTION:Human Rights Commission\n\nReview of Report: "Holding the Lin
 e After 2025: Policy Recommendations from the HRC 2025 Civil Rights Summ
 it"\n\nBig Hartman\, Executive Director & General Counsel\, Vermont Huma
 n Rights Commission - Room 30
END:VALARM
END:VCALENDAR
