BEGIN:VCALENDAR
CALSCALE:GREGORIAN
PRODID:-//Ben Fortuna//iCal4j 1.0//EN
VERSION:2.0
BEGIN:VEVENT
DTSTAMP:20260127T200015Z
DTSTART:20260130T093100
DTEND:20260130T113100
SUMMARY:Secretary of State Division of Animal Welfare\n\nComprehensive Pl
 an\n\nLisa Milot\, Director of Animal Welfare\, Department of Public Saf
 ety - Room M106
TZID:America/New_York
UID:20260127T200124Z-uidGen@richgoldman-357e73
END:VEVENT
BEGIN:VALARM
TRIGGER:-PT15M
ACTION:DISPLAY
DESCRIPTION:Secretary of State Division of Animal Welfare\n\nComprehensiv
 e Plan\n\nLisa Milot\, Director of Animal Welfare\, Department of Public
  Safety - Room M106
END:VALARM
END:VCALENDAR
