BEGIN:VCALENDAR
CALSCALE:GREGORIAN
PRODID:-//Ben Fortuna//iCal4j 1.0//EN
VERSION:2.0
BEGIN:VEVENT
DTSTAMP:20260126T180014Z
DTSTART:20260130T093000
DTEND:20260130T113000
SUMMARY:S. 247 - An act relating to the regulation of the disposal of pla
 stics and the sale of consumer products containing microplastics\n\nSen.
  Anne Watson\, \, Sponsor\n\nMichael O'Grady\, Deputy Chief Counsel\, Of
 fice of Legislative Counsel - Room 8
TZID:America/New_York
UID:20260126T180042Z-uidGen@richgoldman-357e73
END:VEVENT
BEGIN:VALARM
TRIGGER:-PT15M
ACTION:DISPLAY
DESCRIPTION:S. 247 - An act relating to the regulation of the disposal of
  plastics and the sale of consumer products containing microplastics\n\n
 Sen. Anne Watson\, \, Sponsor\n\nMichael O'Grady\, Deputy Chief Counsel\
 , Office of Legislative Counsel - Room 8
END:VALARM
END:VCALENDAR
