BEGIN:VCALENDAR
CALSCALE:GREGORIAN
PRODID:-//Ben Fortuna//iCal4j 1.0//EN
VERSION:2.0
BEGIN:VEVENT
DTSTAMP:20260125T060514Z
DTSTART:20260130T093000
DTEND:20260130T113000
SUMMARY:J.R.S. 37 - Joint resolution supporting\, in solidarity with nati
 onal and international ski organizations and numerous skiers across the 
 globe\, the introduction of long-overdue gender equality in Nordic combi
 ned Olympic competition.\n\nVote\n\nSen. Philip Baruth\, President Pro T
 empore\, Chittenden County - Invited\n\nMichael Chernick\, Legislative C
 ounsel\, Office of Legislative Counsel - Invited - Room 27
TZID:America/New_York
UID:20260125T062001Z-uidGen@richgoldman-357e73
END:VEVENT
BEGIN:VALARM
TRIGGER:-PT15M
ACTION:DISPLAY
DESCRIPTION:J.R.S. 37 - Joint resolution supporting\, in solidarity with 
 national and international ski organizations and numerous skiers across 
 the globe\, the introduction of long-overdue gender equality in Nordic c
 ombined Olympic competition.\n\nVote\n\nSen. Philip Baruth\, President P
 ro Tempore\, Chittenden County - Invited\n\nMichael Chernick\, Legislati
 ve Counsel\, Office of Legislative Counsel - Invited - Room 27
END:VALARM
END:VCALENDAR
