BEGIN:VCALENDAR
CALSCALE:GREGORIAN
PRODID:-//Ben Fortuna//iCal4j 1.0//EN
VERSION:2.0
BEGIN:VEVENT
DTSTAMP:20260125T060514Z
DTSTART:20260130T091500
DTEND:20260130T111500
SUMMARY:Supreme Court Justice Confirmation Hearing\n\nDiscussion - Room 1
 
TZID:America/New_York
UID:20260125T061931Z-uidGen@richgoldman-357e73
END:VEVENT
BEGIN:VALARM
TRIGGER:-PT15M
ACTION:DISPLAY
DESCRIPTION:Supreme Court Justice Confirmation Hearing\n\nDiscussion - Ro
 om 1
END:VALARM
END:VCALENDAR
