BEGIN:VCALENDAR
CALSCALE:GREGORIAN
PRODID:-//Ben Fortuna//iCal4j 1.0//EN
VERSION:2.0
BEGIN:VEVENT
DTSTAMP:20260123T200009Z
DTSTART:20260130T090000
DTEND:20260130T110000
SUMMARY: - Room 8
TZID:America/New_York
UID:20260123T200131Z-uidGen@richgoldman-357e73
END:VEVENT
BEGIN:VALARM
TRIGGER:-PT15M
ACTION:DISPLAY
DESCRIPTION: - Room 8
END:VALARM
END:VCALENDAR
