BEGIN:VCALENDAR
CALSCALE:GREGORIAN
PRODID:-//Ben Fortuna//iCal4j 1.0//EN
VERSION:2.0
BEGIN:VEVENT
DTSTAMP:20260125T060514Z
DTSTART:20260130T090000
DTEND:20260130T110000
SUMMARY:S. 212 - An act relating to potable water supply and wastewater s
 ystem connections\n\nNew Draft\, committee discussion and possible vote\
 n\nMichael O'Grady\, Deputy Chief Counsel\, Office of Legislative Counse
 l - Room 8
TZID:America/New_York
UID:20260125T061924Z-uidGen@richgoldman-357e73
END:VEVENT
BEGIN:VALARM
TRIGGER:-PT15M
ACTION:DISPLAY
DESCRIPTION:S. 212 - An act relating to potable water supply and wastewat
 er system connections\n\nNew Draft\, committee discussion and possible v
 ote\n\nMichael O'Grady\, Deputy Chief Counsel\, Office of Legislative Co
 unsel - Room 8
END:VALARM
END:VCALENDAR
