BEGIN:VCALENDAR
CALSCALE:GREGORIAN
PRODID:-//Ben Fortuna//iCal4j 1.0//EN
VERSION:2.0
BEGIN:VEVENT
DTSTAMP:20260125T060514Z
DTSTART:20260130T090000
DTEND:20260130T110000
SUMMARY:Vermont League of Cities and Towns\n\nJosh Hanford\, Director of 
 Intergovernmental Affairs\, Vermont League of Cities and Towns\n\nSamant
 ha Sheehan\, Municipal Policy and Advocacy Specialist\, Vermont League o
 f Cities and Towns - Room 27
TZID:America/New_York
UID:20260125T061921Z-uidGen@richgoldman-357e73
END:VEVENT
BEGIN:VALARM
TRIGGER:-PT15M
ACTION:DISPLAY
DESCRIPTION:Vermont League of Cities and Towns\n\nJosh Hanford\, Director
  of Intergovernmental Affairs\, Vermont League of Cities and Towns\n\nSa
 mantha Sheehan\, Municipal Policy and Advocacy Specialist\, Vermont Leag
 ue of Cities and Towns - Room 27
END:VALARM
END:VCALENDAR
