BEGIN:VCALENDAR
CALSCALE:GREGORIAN
PRODID:-//Ben Fortuna//iCal4j 1.0//EN
VERSION:2.0
BEGIN:VEVENT
DTSTAMP:20260127T180015Z
DTSTART:20260130T140000
DTEND:20260130T160000
SUMMARY:Legislative Counsel Overview\n\nOverview of new House budget revi
 ew process\n\nJames Duffy\, Fiscal Analyst\, Joint Fiscal Office - Room 
 49
TZID:America/New_York
UID:20260127T180050Z-uidGen@richgoldman-357e73
END:VEVENT
BEGIN:VALARM
TRIGGER:-PT15M
ACTION:DISPLAY
DESCRIPTION:Legislative Counsel Overview\n\nOverview of new House budget 
 review process\n\nJames Duffy\, Fiscal Analyst\, Joint Fiscal Office - R
 oom 49
END:VALARM
END:VCALENDAR
