BEGIN:VCALENDAR
CALSCALE:GREGORIAN
PRODID:-//Ben Fortuna//iCal4j 1.0//EN
VERSION:2.0
BEGIN:VEVENT
DTSTAMP:20260125T060514Z
DTSTART:20260130T140000
DTEND:20260130T160000
SUMMARY:Security Training\n\nThis will not be live-streamed due to sensit
 ive content\n\nJohn Poleway\, Chief of Capitol Police\, Capitol Police D
 epartment\n\nJoe Tremblay\, Capitol Police Officer\, Capitol Police Depa
 rtment\n\nAgatha Kessler\, Sergeant at Arms\, Vermont General Assembly\n
 \nSara Macera\, Sergeant\, Capitol Police Department - Room 7
TZID:America/New_York
UID:20260125T062226Z-uidGen@richgoldman-357e73
END:VEVENT
BEGIN:VALARM
TRIGGER:-PT15M
ACTION:DISPLAY
DESCRIPTION:Security Training\n\nThis will not be live-streamed due to se
 nsitive content\n\nJohn Poleway\, Chief of Capitol Police\, Capitol Poli
 ce Department\n\nJoe Tremblay\, Capitol Police Officer\, Capitol Police 
 Department\n\nAgatha Kessler\, Sergeant at Arms\, Vermont General Assemb
 ly\n\nSara Macera\, Sergeant\, Capitol Police Department - Room 7
END:VALARM
END:VCALENDAR
