BEGIN:VCALENDAR
CALSCALE:GREGORIAN
PRODID:-//Ben Fortuna//iCal4j 1.0//EN
VERSION:2.0
BEGIN:VEVENT
DTSTAMP:20260128T170014Z
DTSTART:20260130T130000
DTEND:20260130T150000
SUMMARY:H. 594 - An act relating to establishing the Temporary Emergency 
 Housing and Accountability Program and the Return Home Program in fiscal
  years 2027 and 2028\n\nKathleen Berk\, Executive Director\, Vermont Sta
 te Housing Authority\n\nElizabeth Bacon\, Director of Housing Program Ad
 ministration\, Vermont State Housing Authority\n\nMolly Dugan\, Director
  of Policy and Strategic Initiatives\, Cathedral Square - Invited\n\nDea
 nna Hartog\, Poverty Law Fellow\, Vermont Legal Aid - Room 46
TZID:America/New_York
UID:20260128T170059Z-uidGen@richgoldman-357e73
END:VEVENT
BEGIN:VALARM
TRIGGER:-PT15M
ACTION:DISPLAY
DESCRIPTION:H. 594 - An act relating to establishing the Temporary Emerge
 ncy Housing and Accountability Program and the Return Home Program in fi
 scal years 2027 and 2028\n\nKathleen Berk\, Executive Director\, Vermont
  State Housing Authority\n\nElizabeth Bacon\, Director of Housing Progra
 m Administration\, Vermont State Housing Authority\n\nMolly Dugan\, Dire
 ctor of Policy and Strategic Initiatives\, Cathedral Square - Invited\n\
 nDeanna Hartog\, Poverty Law Fellow\, Vermont Legal Aid - Room 46
END:VALARM
END:VCALENDAR
