BEGIN:VCALENDAR
CALSCALE:GREGORIAN
PRODID:-//Ben Fortuna//iCal4j 1.0//EN
VERSION:2.0
BEGIN:VEVENT
DTSTAMP:20260126T200014Z
DTSTART:20260130T130000
DTEND:20260130T150000
SUMMARY:H. 775 - An act relating to creating tools for housing production
 \n\nJoint Hearing with the House Committee on General and Housing from 1
 :00-3:00pm in Room 10 of the State House. This will be livestreamed from
  the House Committee on General and Housing YouTube: https://www.youtube
 .com/@VTHouseGenAndHousing\n\nCameron Wood\, Legislative Counsel\, Offic
 e of Legislative Counsel\n\nJon Gray\, Legislative Counsel\, Office of L
 egislative Counsel\n\nMichael Pieciak\, Vermont State Treasurer\, Office
  of the State Treasurer - Invited\n\nAlex Farrell\, Commissioner\, Depar
 tment of Housing and Community Development - Invited\n\nMichael Gaughan\
 , Executive Director\, Vermont Bond Bank - Zoom\n\nSamantha Sheehan\, Mu
 nicipal Policy and Advocacy Specialist\, Vermont League of Cities and To
 wns\n\nDavid Kapplan\, Housing Developer - Invited - Room 35
TZID:America/New_York
UID:20260126T200107Z-uidGen@richgoldman-357e73
END:VEVENT
BEGIN:VALARM
TRIGGER:-PT15M
ACTION:DISPLAY
DESCRIPTION:H. 775 - An act relating to creating tools for housing produc
 tion\n\nJoint Hearing with the House Committee on General and Housing fr
 om 1:00-3:00pm in Room 10 of the State House. This will be livestreamed 
 from the House Committee on General and Housing YouTube: https://www.you
 tube.com/@VTHouseGenAndHousing\n\nCameron Wood\, Legislative Counsel\, O
 ffice of Legislative Counsel\n\nJon Gray\, Legislative Counsel\, Office 
 of Legislative Counsel\n\nMichael Pieciak\, Vermont State Treasurer\, Of
 fice of the State Treasurer - Invited\n\nAlex Farrell\, Commissioner\, D
 epartment of Housing and Community Development - Invited\n\nMichael Gaug
 han\, Executive Director\, Vermont Bond Bank - Zoom\n\nSamantha Sheehan\
 , Municipal Policy and Advocacy Specialist\, Vermont League of Cities an
 d Towns\n\nDavid Kapplan\, Housing Developer - Invited - Room 35
END:VALARM
END:VCALENDAR
