BEGIN:VCALENDAR
CALSCALE:GREGORIAN
PRODID:-//Ben Fortuna//iCal4j 1.0//EN
VERSION:2.0
BEGIN:VEVENT
DTSTAMP:20260125T060514Z
DTSTART:20260130T130000
DTEND:20260130T150000
SUMMARY:Department of Forests\, Parks and Recreation\n\nIntroduction to W
 ood Warms Program\n\nJim Duncan\, State Lands Manager - Room 49
TZID:America/New_York
UID:20260125T062147Z-uidGen@richgoldman-357e73
END:VEVENT
BEGIN:VALARM
TRIGGER:-PT15M
ACTION:DISPLAY
DESCRIPTION:Department of Forests\, Parks and Recreation\n\nIntroduction 
 to Wood Warms Program\n\nJim Duncan\, State Lands Manager - Room 49
END:VALARM
END:VCALENDAR
