BEGIN:VCALENDAR
CALSCALE:GREGORIAN
PRODID:-//Ben Fortuna//iCal4j 1.0//EN
VERSION:2.0
BEGIN:VEVENT
DTSTAMP:20260125T060514Z
DTSTART:20260130T130000
DTEND:20260130T150000
SUMMARY:Rural Development Initiative\n\nJoint Hearing with the House Comm
 ittee on Commerce and Economic Development from 1:00-3:00pm in Room 10 o
 f the State House. This will be livestreamed from the House Committee on
  General and Housing YouTube.\n\nCameron Wood\, Legislative Counsel\, Of
 fice of Legislative Counsel\n\nJon Gray\, Legislative Counsel\, Office o
 f Legislative Counsel\n\nMichael Pieciak\, Vermont State Treasurer\, Off
 ice of the State Treasurer - Invited\n\nAlex Farrell\, Commissioner\, De
 partment of Housing and Community Development - Invited\n\nMichael Gaugh
 an\, Executive Director\, Vermont Bond Bank - Zoom\n\nSamantha Sheehan\,
  Municipal Policy and Advocacy Specialist\, Vermont League of Cities and
  Towns\n\nDavid Kapplan\, Housing Developer - Invited - Room 31
TZID:America/New_York
UID:20260125T062158Z-uidGen@richgoldman-357e73
END:VEVENT
BEGIN:VALARM
TRIGGER:-PT15M
ACTION:DISPLAY
DESCRIPTION:Rural Development Initiative\n\nJoint Hearing with the House 
 Committee on Commerce and Economic Development from 1:00-3:00pm in Room 
 10 of the State House. This will be livestreamed from the House Committe
 e on General and Housing YouTube.\n\nCameron Wood\, Legislative Counsel\
 , Office of Legislative Counsel\n\nJon Gray\, Legislative Counsel\, Offi
 ce of Legislative Counsel\n\nMichael Pieciak\, Vermont State Treasurer\,
  Office of the State Treasurer - Invited\n\nAlex Farrell\, Commissioner\
 , Department of Housing and Community Development - Invited\n\nMichael G
 aughan\, Executive Director\, Vermont Bond Bank - Zoom\n\nSamantha Sheeh
 an\, Municipal Policy and Advocacy Specialist\, Vermont League of Cities
  and Towns\n\nDavid Kapplan\, Housing Developer - Invited - Room 31
END:VALARM
END:VCALENDAR
