BEGIN:VCALENDAR
CALSCALE:GREGORIAN
PRODID:-//Ben Fortuna//iCal4j 1.0//EN
VERSION:2.0
BEGIN:VEVENT
DTSTAMP:20260127T170014Z
DTSTART:20260130T130000
DTEND:20260130T150000
SUMMARY:H. 583 - An act relating to health care financial transactions an
 d clinical decision making\n\nTestimony\n\nYashaswini Singh\, Researcher
 \, Brown University - Zoom\n\nErin Fuse Brown\, Researcher\, Brown Unive
 rsity - Zoom\n\nMichael Fenne\, J.D.\, Senior Research and Campaign Coor
 dinator\, Private Equity Stakeholder Project (PESP) - Zoom - Room 42
TZID:America/New_York
UID:20260127T170124Z-uidGen@richgoldman-357e73
END:VEVENT
BEGIN:VALARM
TRIGGER:-PT15M
ACTION:DISPLAY
DESCRIPTION:H. 583 - An act relating to health care financial transaction
 s and clinical decision making\n\nTestimony\n\nYashaswini Singh\, Resear
 cher\, Brown University - Zoom\n\nErin Fuse Brown\, Researcher\, Brown U
 niversity - Zoom\n\nMichael Fenne\, J.D.\, Senior Research and Campaign 
 Coordinator\, Private Equity Stakeholder Project (PESP) - Zoom - Room 42
 
END:VALARM
END:VCALENDAR
