BEGIN:VCALENDAR
CALSCALE:GREGORIAN
PRODID:-//Ben Fortuna//iCal4j 1.0//EN
VERSION:2.0
BEGIN:VEVENT
DTSTAMP:20260125T060514Z
DTSTART:20260130T130000
DTEND:20260130T150000
SUMMARY:Dam Management Updates\n\nANR Managed Dams and Waterbury Dam Proj
 ect\n\nMisty Sinsigalli\, Commissioner\, Department of Environmental Con
 servation - Invited\n\nBen Green\, Dam Safety Program Manager\, Departme
 nt of Environmental Conservation - Invited - Room 7
TZID:America/New_York
UID:20260125T062211Z-uidGen@richgoldman-357e73
END:VEVENT
BEGIN:VALARM
TRIGGER:-PT15M
ACTION:DISPLAY
DESCRIPTION:Dam Management Updates\n\nANR Managed Dams and Waterbury Dam 
 Project\n\nMisty Sinsigalli\, Commissioner\, Department of Environmental
  Conservation - Invited\n\nBen Green\, Dam Safety Program Manager\, Depa
 rtment of Environmental Conservation - Invited - Room 7
END:VALARM
END:VCALENDAR
