BEGIN:VCALENDAR
CALSCALE:GREGORIAN
PRODID:-//Ben Fortuna//iCal4j 1.0//EN
VERSION:2.0
BEGIN:VEVENT
DTSTAMP:20260127T150031Z
DTSTART:20260130T130000
DTEND:20260130T150000
SUMMARY:TBD - Room 7
TZID:America/New_York
UID:20260127T150148Z-uidGen@richgoldman-357e73
END:VEVENT
BEGIN:VALARM
TRIGGER:-PT15M
ACTION:DISPLAY
DESCRIPTION:TBD - Room 7
END:VALARM
END:VCALENDAR
