BEGIN:VCALENDAR
CALSCALE:GREGORIAN
PRODID:-//Ben Fortuna//iCal4j 1.0//EN
VERSION:2.0
BEGIN:VEVENT
DTSTAMP:20260125T060514Z
DTSTART:20260130T130000
DTEND:20260130T150000
SUMMARY:H. 717 - An act relating to the Residential and Commercial Buildi
 ng Energy Standards and the adoption of a residential building code\n\nT
 estimony\, Witnesses TBD - Room 32
TZID:America/New_York
UID:20260125T062157Z-uidGen@richgoldman-357e73
END:VEVENT
BEGIN:VALARM
TRIGGER:-PT15M
ACTION:DISPLAY
DESCRIPTION:H. 717 - An act relating to the Residential and Commercial Bu
 ilding Energy Standards and the adoption of a residential building code\
 n\nTestimony\, Witnesses TBD - Room 32
END:VALARM
END:VCALENDAR
