BEGIN:VCALENDAR
CALSCALE:GREGORIAN
PRODID:-//Ben Fortuna//iCal4j 1.0//EN
VERSION:2.0
BEGIN:VEVENT
DTSTAMP:20260127T150031Z
DTSTART:20260130T130000
DTEND:20260130T150000
SUMMARY:H. 718 - An act relating to building energy efficiency\n\nMichael
  Desrochers\, Director\, Division of Fire Safety\, Department of Public 
 Safety - Room 32
TZID:America/New_York
UID:20260127T150152Z-uidGen@richgoldman-357e73
END:VEVENT
BEGIN:VALARM
TRIGGER:-PT15M
ACTION:DISPLAY
DESCRIPTION:H. 718 - An act relating to building energy efficiency\n\nMic
 hael Desrochers\, Director\, Division of Fire Safety\, Department of Pub
 lic Safety - Room 32
END:VALARM
END:VCALENDAR
