BEGIN:VCALENDAR
CALSCALE:GREGORIAN
PRODID:-//Ben Fortuna//iCal4j 1.0//EN
VERSION:2.0
BEGIN:VEVENT
DTSTAMP:20260128T180015Z
DTSTART:20260130T112000
DTEND:20260130T132000
SUMMARY:Municipal Regulation of Agriculture\n\nCommittee discussion and b
 ill mark up - Room 49
TZID:America/New_York
UID:20260128T180051Z-uidGen@richgoldman-357e73
END:VEVENT
BEGIN:VALARM
TRIGGER:-PT15M
ACTION:DISPLAY
DESCRIPTION:Municipal Regulation of Agriculture\n\nCommittee discussion a
 nd bill mark up - Room 49
END:VALARM
END:VCALENDAR
