BEGIN:VCALENDAR
CALSCALE:GREGORIAN
PRODID:-//Ben Fortuna//iCal4j 1.0//EN
VERSION:2.0
BEGIN:VEVENT
DTSTAMP:20260125T060514Z
DTSTART:20260130T110000
DTEND:20260130T130000
SUMMARY:Capital Budget Adjustment\n\nSection 6 - Vermont Veteran's Home\n
 \nJoe Aja\, Director Design & Construction\, Department of Buildings and
  General Services\n\nMelissa Jackson\, Chief Executive Officer\, Vermont
  Veterans' Home\n\nGreg Krizan\, Director of Environmental Services\, Ve
 rmont Veterans' Home - Room 34
TZID:America/New_York
UID:20260125T062044Z-uidGen@richgoldman-357e73
END:VEVENT
BEGIN:VALARM
TRIGGER:-PT15M
ACTION:DISPLAY
DESCRIPTION:Capital Budget Adjustment\n\nSection 6 - Vermont Veteran's Ho
 me\n\nJoe Aja\, Director Design & Construction\, Department of Buildings
  and General Services\n\nMelissa Jackson\, Chief Executive Officer\, Ver
 mont Veterans' Home\n\nGreg Krizan\, Director of Environmental Services\
 , Vermont Veterans' Home - Room 34
END:VALARM
END:VCALENDAR
