BEGIN:VCALENDAR
CALSCALE:GREGORIAN
PRODID:-//Ben Fortuna//iCal4j 1.0//EN
VERSION:2.0
BEGIN:VEVENT
DTSTAMP:20260125T060514Z
DTSTART:20260130T110000
DTEND:20260130T130000
SUMMARY:H. 211 - An act relating to data brokers and personal information
 \n\nCharity Clark\, Attorney General\, Attorney General's Office - Invit
 ed\n\nSarah Copeland Hanzas\, Secretary of State\, Secretary of State's 
 Office - Invited - Room 35
TZID:America/New_York
UID:20260125T062043Z-uidGen@richgoldman-357e73
END:VEVENT
BEGIN:VALARM
TRIGGER:-PT15M
ACTION:DISPLAY
DESCRIPTION:H. 211 - An act relating to data brokers and personal informa
 tion\n\nCharity Clark\, Attorney General\, Attorney General's Office - I
 nvited\n\nSarah Copeland Hanzas\, Secretary of State\, Secretary of Stat
 e's Office - Invited - Room 35
END:VALARM
END:VCALENDAR
